BEGIN:VCALENDAR
VERSION:2.0
PRODID:-//Despite Dwight - ECPv6.15.20//NONSGML v1.0//EN
CALSCALE:GREGORIAN
METHOD:PUBLISH
X-ORIGINAL-URL:https://despitedwight.com
X-WR-CALDESC:Events for Despite Dwight
REFRESH-INTERVAL;VALUE=DURATION:PT1H
X-Robots-Tag:noindex
X-PUBLISHED-TTL:PT1H
BEGIN:VTIMEZONE
TZID:America/New_York
BEGIN:DAYLIGHT
TZOFFSETFROM:-0500
TZOFFSETTO:-0400
TZNAME:EDT
DTSTART:20250309T070000
END:DAYLIGHT
BEGIN:STANDARD
TZOFFSETFROM:-0400
TZOFFSETTO:-0500
TZNAME:EST
DTSTART:20251102T060000
END:STANDARD
BEGIN:DAYLIGHT
TZOFFSETFROM:-0500
TZOFFSETTO:-0400
TZNAME:EDT
DTSTART:20260308T070000
END:DAYLIGHT
BEGIN:STANDARD
TZOFFSETFROM:-0400
TZOFFSETTO:-0500
TZNAME:EST
DTSTART:20261101T060000
END:STANDARD
BEGIN:DAYLIGHT
TZOFFSETFROM:-0500
TZOFFSETTO:-0400
TZNAME:EDT
DTSTART:20270314T070000
END:DAYLIGHT
BEGIN:STANDARD
TZOFFSETFROM:-0400
TZOFFSETTO:-0500
TZNAME:EST
DTSTART:20271107T060000
END:STANDARD
END:VTIMEZONE
BEGIN:VEVENT
DTSTART;VALUE=DATE:20260926
DTEND;VALUE=DATE:20260927
DTSTAMP:20260419T211324
CREATED:20260323T142146Z
LAST-MODIFIED:20260323T143857Z
UID:17806-1790380800-1790467199@despitedwight.com
SUMMARY:Event Details Coming Soon
DESCRIPTION:Despite Dwight returns to the stage at the Marshfield Community Rib Cook-off				\n				\n		\n		\n							\n						\n				\n									General Admission Wristbands ($7 online/$10 at the gate)Valid from 12pm – 7pm on Saturday September 6\, 2025.  Buy early and save! Wristbands are only $7.00 per person when purchased in advance.  Price per ticket goes up to $10 per person at the gate on the day of the event. Your Wristband includes admission into the event for Adults and Children ages 11 and up (free admission ages 10 and under). The admission fee does not include the cost of food and beverage during the event. 								\n				\n				\n		\n				\n				\n																\n															\n															\n				\n				\n				\n									\n					\n						\n						\n							\n									Get Wristbands
URL:https://despitedwight.com/event/event-details-coming-soon/
LOCATION:Duxbury\, MA
CATEGORIES:21+,Open to the Public,Tickets Required,Upcoming
ATTACH;FMTTYPE=image/jpeg:https://despitedwight.com/wp-content/uploads/2021/07/1901264_10152479939701255_8988238722704472919_n.jpg
END:VEVENT
END:VCALENDAR