BEGIN:VCALENDAR
VERSION:2.0
PRODID:-//Despite Dwight - ECPv6.15.20//NONSGML v1.0//EN
CALSCALE:GREGORIAN
METHOD:PUBLISH
X-WR-CALNAME:Despite Dwight
X-ORIGINAL-URL:https://despitedwight.com
X-WR-CALDESC:Events for Despite Dwight
REFRESH-INTERVAL;VALUE=DURATION:PT1H
X-Robots-Tag:noindex
X-PUBLISHED-TTL:PT1H
BEGIN:VTIMEZONE
TZID:America/New_York
BEGIN:DAYLIGHT
TZOFFSETFROM:-0500
TZOFFSETTO:-0400
TZNAME:EDT
DTSTART:20240310T070000
END:DAYLIGHT
BEGIN:STANDARD
TZOFFSETFROM:-0400
TZOFFSETTO:-0500
TZNAME:EST
DTSTART:20241103T060000
END:STANDARD
BEGIN:DAYLIGHT
TZOFFSETFROM:-0500
TZOFFSETTO:-0400
TZNAME:EDT
DTSTART:20250309T070000
END:DAYLIGHT
BEGIN:STANDARD
TZOFFSETFROM:-0400
TZOFFSETTO:-0500
TZNAME:EST
DTSTART:20251102T060000
END:STANDARD
BEGIN:DAYLIGHT
TZOFFSETFROM:-0500
TZOFFSETTO:-0400
TZNAME:EDT
DTSTART:20260308T070000
END:DAYLIGHT
BEGIN:STANDARD
TZOFFSETFROM:-0400
TZOFFSETTO:-0500
TZNAME:EST
DTSTART:20261101T060000
END:STANDARD
END:VTIMEZONE
BEGIN:VEVENT
DTSTART;TZID=America/New_York:20250628T120000
DTEND;TZID=America/New_York:20250628T170000
DTSTAMP:20260421T115407
CREATED:20250310T142021Z
LAST-MODIFIED:20250625T235917Z
UID:17669-1751112000-1751130000@despitedwight.com
SUMMARY:Norwood Space Center Outdoor Market (Cancelled! Stay tuned for new date)
DESCRIPTION:Despite Dwight returns to the stage at the Marshfield Community Rib Cook-off				\n				\n							\n						\n				\n									General Admission Wristbands $12 (Children 10 and under are FREE)Valid from 12pm – 6pm on Saturday September 12\, 2026. Your Wristband includes admission into the event for Adults and Children ages 11 and up. The admission fee does not include the cost of food and beverage during the event. 								\n				\n				\n				\n									\n					\n						\n						\n							\n									Get Wristbands
URL:https://despitedwight.com/event/norwood-space-center-outdoor-market/
LOCATION:Norwood Space Center
CATEGORIES:Family Event,No Cover,Open to the Public,Upcoming
ATTACH;FMTTYPE=image/jpeg:https://despitedwight.com/wp-content/uploads/2025/03/Despite-Dwight-at-NSC-June-28.jpg
END:VEVENT
END:VCALENDAR